BEGIN:VCALENDAR
VERSION:2.0
PRODID:-//dunamuveszegyuttes - ECPv5.12.3//NONSGML v1.0//EN
CALSCALE:GREGORIAN
METHOD:PUBLISH
X-WR-CALNAME:dunamuveszegyuttes
X-ORIGINAL-URL:https://dunamuveszegyuttes.hu
X-WR-CALDESC:Events for dunamuveszegyuttes
REFRESH-INTERVAL;VALUE=DURATION:PT1H
X-Robots-Tag:noindex
X-PUBLISHED-TTL:PT1H
BEGIN:VTIMEZONE
TZID:UTC
BEGIN:STANDARD
TZOFFSETFROM:+0000
TZOFFSETTO:+0000
TZNAME:UTC
DTSTART:20260101T000000
END:STANDARD
END:VTIMEZONE
BEGIN:VEVENT
DTSTART;TZID=UTC:20260619T200000
DTEND;TZID=UTC:20260619T220000
DTSTAMP:20260421T144923
CREATED:20260421T083423Z
LAST-MODIFIED:20260421T083537Z
UID:3755-1781899200-1781906400@dunamuveszegyuttes.hu
SUMMARY:Duna Karnevál Gála
DESCRIPTION:31. DUNA KARNEVÁL GÁLA \nTáncba szőtt szerelem \nA karneváli események koronája minden évben a Margitszigeti Szabadtéri Színpad mesés környezetében bemutatott gálaműsor\, a külföldi és hazai táncegyüttesek közel 300 művészének egyedülálló\, közös műsora\, ahol jelen lesznek a FolKid gyermekfesztivál kiemelkedő csoportjai is. \nA Táncba szőtt szerelem egy különleges néptánc előadás\, amely a szerelem sokszínű arcát idézi meg a világ népeinek táncain és zenéin keresztül. \nA Duna Művészegyüttes és a Magyar Állami Népi Együttes művészeihez a karneválra érkező nemzetközi tánc- és zenei együttesek is csatlakoznak\, hogy közösen mutassák meg\, hogyan szövi át a szerelem a nemzeti tradíciókat\, hogyan válik a tánc közös nyelvvé\, amely határokon és generációkon ível át. \nEz az est a tánc szeretetének ünnepe is\, ahol a különböző kultúrák dallamai és mozdulatai egymásba fonódva rajzolják ki az egyetemes érzelmet\, és a színpadon kibontakozó találkozások egyszerre idézik a néphagyomány erejét és a szerelem időtlen varázsát. \n  \nSzerkesztő koreográfus: Mihályi Gábor\, Kossuth- és Harangozó Gyula-díjas\, Érdemes és Kiváló művész \nZenei szerkesztő: Pál István Szalonna\, Kossuth-\, és Liszt Ferenc-díjas népzenész\, Érdemes és Kiváló művészDulai Zoltán\, a Népművészet Ifjú Mestere \nKoreográfus-rendező: Juhász Zsolt\, Harangozó Gyula-díjas\, Érdemes művész \nFesztiváligazgató: Vincze Andrea\, Bánffy Miklós-díjas \n  \nA Duna Karnevál alapítója\, 2024-ig elnöke és művészeti igazgatója: Mucsi János\, Harangozó Gyula-díjas koreográfus\, Érdemes művész\, a Tiszti-kereszt érdemrend birtokosa
URL:https://dunamuveszegyuttes.hu/event/duna-karneval-gala-2/
LOCATION:Margitszigeti Szabadtéri Színpad
CATEGORIES:Események
ATTACH;FMTTYPE=image/png:https://dunamuveszegyuttes.hu/wp-content/uploads/2024/05/Kepernyofoto-2022-07-05-14.06.00.png
END:VEVENT
END:VCALENDAR