BEGIN:VCALENDAR
VERSION:2.0
PRODID:-//dunamuveszegyuttes - ECPv5.12.3//NONSGML v1.0//EN
CALSCALE:GREGORIAN
METHOD:PUBLISH
X-WR-CALNAME:dunamuveszegyuttes
X-ORIGINAL-URL:https://dunamuveszegyuttes.hu
X-WR-CALDESC:Events for dunamuveszegyuttes
REFRESH-INTERVAL;VALUE=DURATION:PT1H
X-Robots-Tag:noindex
X-PUBLISHED-TTL:PT1H
BEGIN:VTIMEZONE
TZID:UTC
BEGIN:STANDARD
TZOFFSETFROM:+0000
TZOFFSETTO:+0000
TZNAME:UTC
DTSTART:20260101T000000
END:STANDARD
END:VTIMEZONE
BEGIN:VEVENT
DTSTART;TZID=UTC:20260514T100000
DTEND;TZID=UTC:20260514T110000
DTSTAMP:20260421T132127
CREATED:20260416T104332Z
LAST-MODIFIED:20260416T104332Z
UID:3724-1778752800-1778756400@dunamuveszegyuttes.hu
SUMMARY:Kis magyar táncrajz – Rendhagyó néprajzi óra
DESCRIPTION:A gyermekek\, fiatalok sokoldalú nevelésében\, képességeik fejlesztésében elengedhetetlen a népi kultúra értékeinek megismerése\, továbbá a népi játékok\, a néptánc fejleszti a gyermekek mozgáskultúráját\, testtudatát\, identitását\, szociális érzékenységét. \nA Duna Művészegyüttes interaktív óra keretében bemutatja számos kárpát-medencei tájegység táncát és tánctípusát\, többek között a verbunkot\, a csárdást\, ugrós táncokat\, karikázót. A színpadon többek között szatmári\, kalotaszegi\, vág-garam közi\, kárpátaljai\, vajdasági\, cigány-\, valamint különböző vidékek pásztortáncai elevenednek meg\, melyeket a Göncöl zenekar kísér virtuóz zenei összeállításokkal. A nézők közelebbről megismerkedhetnek az adott néprajzi tájegységek viseleteivel\, jellemző dallamaival és hangszereivel. \nAz előadás interaktivitásának köszönhetően szívesen és lelkesen csatlakoznak be kicsik és nagyok egyaránt a folklórkincseket bemutató produkcióba\, ez mind a tánckar mind a narrátor részére pozitív visszajelzés\, a nézőknek pedig igazi felüdülés és befogadható módon kapott hasznos tudás. \nElőadja: \nDuna Művészegyüttes\, Göncöl zenekar \nNarrátor: Sikentáncz Szilveszter/Berecz István \nSzerkesztő: Sikentáncz Szilveszter \nRendező: Juhász Zsolt \n  \nA Kis magyar táncrajz – Rendhagyó néprajzi óra május 14-én az Előadóművészeti Többlettámogatás keretében valósul meg.
URL:https://dunamuveszegyuttes.hu/event/kis-magyar-tancrajz-rendhagyo-neprajzi-ora-31/
LOCATION:Budakalász
CATEGORIES:Események
ATTACH;FMTTYPE=image/jpeg:https://dunamuveszegyuttes.hu/wp-content/uploads/2022/01/Csavoly-RNO-2025.09.01-17-scaled-e1757506564767.jpg
END:VEVENT
BEGIN:VEVENT
DTSTART;TZID=UTC:20260515T200000
DTEND;TZID=UTC:20260515T210000
DTSTAMP:20260421T132127
CREATED:20260416T104601Z
LAST-MODIFIED:20260416T104601Z
UID:3727-1778875200-1778878800@dunamuveszegyuttes.hu
SUMMARY:Fordulj\, kedves lovam - Válogatás Kallós Zoltán gyűjtéseiből
DESCRIPTION:Fordulj\, kedves lovam – Válogatás Kallós Zoltán gyűjtéseiből \nA Duna Művészegyüttes Göncöl zenekarának koncertje \n   \nA Duna Művészegyüttes állandó zenekara\, a Göncöl zenekar önálló koncertje a kétszeres Kossuth-díjas erdélyi magyar néprajzkutató\, Kallós Zoltán népzenei gyűjtéseiből válogat. \nA Fordulj\, kedves lovam – Válogatás Kallós Zoltán gyűjtéseiből című album a Spotify és Apple Music zenemegosztó csatornákon hallgatható\, az album célja\, hogy Kallós Zoltán életét\, kiemelkedő személyiségét legfontosabb népzenei gyűjtéseiből válogatva mutassa be\, melyet a koncerteken videó-illetve hangbejátszásokkal\, fényképek vetítésével tesznek még érzékletesebbé. \nAz album\, így tehát a koncert zenei anyagában is kimagasló szerepet játszik Kallós szűkebb szülőföldje\, a Kis-Szamos menti Válaszút és Bonchida\, illetve Mezőség számos falujának (Feketelak\, Buza\, Vajdakamarás\, Magyarszovát\, Szék) hangszeres és vokális népzenéje\, de Kallós Zoltán moldvai\, gyimesi\, kalotaszegi és nagysajói gyűjtéseiből is válogatnak. A zenei anyagot szerkesztette és természetesen a koncerten is közreműködik Enyedi Ágnes népdalénekes\, aki Kallós Zoltánnal gyerekkorától kezdve nagyon szoros kapcsolatot ápolt. \n\nElőadja: \na Duna Művészegyüttes népi zenekara\, a Göncöl Zenekar \nÉnekes közreműködők: \nEnyedi Ágnes Junior Prima díjas népdalénekes\, a Népművészet Ifjú Mestere \nMezei Balázs\, a Duna Művészegyüttes táncművésze \n 
URL:https://dunamuveszegyuttes.hu/event/fordulj-kedves-lovam-valogatas-kallos-zoltan-gyujteseibol-5/
LOCATION:Kiscsősz
CATEGORIES:Események
ATTACH;FMTTYPE=image/jpeg:https://dunamuveszegyuttes.hu/wp-content/uploads/2024/02/Csardafesztival-2025-9-scaled-e1757507848116.jpg
END:VEVENT
BEGIN:VEVENT
DTSTART;TZID=UTC:20260606T200000
DTEND;TZID=UTC:20260606T210000
DTSTAMP:20260421T132127
CREATED:20260420T114755Z
LAST-MODIFIED:20260420T114755Z
UID:3744-1780776000-1780779600@dunamuveszegyuttes.hu
SUMMARY:Magyar táncképek
DESCRIPTION:A Magyar táncképek a Duna Művészegyüttes folklórelőadása\, amelynek műsorát a Kárpát-medence autentikus néptáncait bemutató\, feldolgozó koreográfiák alkotják. \nAz előadás kötetlen szerkezetű\, amely különböző hangulatokat idéz meg\, impressziókat nyújt a paraszti kultúrából. \nA színpadon mezőföldi\, vág-garam közi\, somogyi\, Békés megyei\, kárpátaljai és kalotaszegi táncok\, valamint különböző vidékek pásztortáncai elevenednek meg\, melyeket a Göncöl zenekar kísér virtuóz zenei összeállításokkal. Ezek a dallamok – hasonlóan a táncképekhez – a Kárpát-medence magyarságának és nemzetiségeinek népzenei hagyományait mutatják be. \n\nElőadja a Duna Művészegyüttes tánckara és a Göncöl zenekar \nRendező: Juhász Zsolt
URL:https://dunamuveszegyuttes.hu/event/magyar-tanckepek-28/
LOCATION:Budakalász
CATEGORIES:Események
ATTACH;FMTTYPE=image/jpeg:https://dunamuveszegyuttes.hu/wp-content/uploads/2025/07/Herczeg-Balint-Liszt-Intezet-London2.jpeg
END:VEVENT
BEGIN:VEVENT
DTSTART;TZID=UTC:20260608T190000
DTEND;TZID=UTC:20260608T200000
DTSTAMP:20260421T132127
CREATED:20260421T082446Z
LAST-MODIFIED:20260421T082656Z
UID:3748-1780945200-1780948800@dunamuveszegyuttes.hu
SUMMARY:APÁK ÉS FIAK
DESCRIPTION:Duna Művészegyüttes \nApák és fiak – Táncelőadás Nagy Albert gyűjtései nyomán \n  \nHagyományos kultúránkban a szellemi javak átörökítése természetes folyamatként volt jelen. Szájról szájra terjedt tovább a tudás\, mely felhalmozódott a népművészetben. A hagyomány\, mint értékrend meghatározta a falusi közösség életét\, mely apáról fiúra szállt ugyan\, de a generációs folyamatokat tekintve korszakok között is átíveltek szellemi értékeink. \nA produkció az apák és fiak közötti szellemi kapcsolaton keresztül a hagyományról\, az átörökítésről és az átvételéről kíván szólni. Az előadás a tervek szerint egy sorozat kezdő állomása\, melyben az Együttes tisztelegni kíván a kiemelkedő munkát végző néptáncgyűjtők előtt. \nElsőként\, Juhász Zsolt mesterének\, Nagy Albertnek munkásságára emlékeznek. Az ő emblematikus gyűjtéseiből építkezik produkció tánc és zenei anyaga. \nAz előadásban Kölcsey Ferenc Parainesis Kölcsey Kálmánhoz c. művéből idéznek részleteket Rubold Ödön tolmácsolásában. \n  \nElőadja a Duna Művészegyüttes és a Göncöl zenekar \nKözreműködik: Rubold Ödön – Jászai Mari-díjas színművész\, Érdemes és Kiváló művész és Orosz Máté Imre\, a Debreceni Hajdú Táncegyüttes növendéke \nZenei szerkesztés: Göncöl zenekar\, Horváth Mária \nTáncmesterek: az Együttes táncművészei \nJelmez: Winklerné Petri-Kiss Borbála \nDíszlet: Michac Gábor \nLátvány: JuZso \nVideó: XORXOR \nFény: Lendvai Károly \nHang: Földes Gábor \nSzakmai konzulens: Gombos András \nRendező-koreográfus: Juhász Zsolt
URL:https://dunamuveszegyuttes.hu/event/apak-es-fiak-4/
LOCATION:Kálmán Imre Művelődési Központ\, Siófok
CATEGORIES:Események
ATTACH;FMTTYPE=image/jpeg:https://dunamuveszegyuttes.hu/wp-content/uploads/2024/02/19_Apak_348-masolat.jpg
END:VEVENT
BEGIN:VEVENT
DTSTART;TZID=UTC:20260612T200000
DTEND;TZID=UTC:20260612T210000
DTSTAMP:20260421T132127
CREATED:20260420T122116Z
LAST-MODIFIED:20260420T122116Z
UID:3746-1781294400-1781298000@dunamuveszegyuttes.hu
SUMMARY:Szerelmünk\, Kalotaszeg
DESCRIPTION:A Duna Művészegyüttes évekre visszatekintő általános törekvése\, hogy a néptáncot kiemelje a műfaj megszokott színpadi kereteiből\, és olyan összetett táncszínházi előadásokat hozzon létre\, amelyek az autentikusság jegyeit hordozzák magukon\, ugyanakkor innovatív szellemiségük\, modernségük a mai színházi elemek egyenrangú társává teszik a néptáncot és a népzenét. \nEz alapján készült el a Duna Művészegyüttes Szerelmünk\, Kalotaszeg című előadása is\, mely színpadi keretek között idézi meg Kalotaszeg tájegységének különleges és egyedi vonásait\, a levegő csodálatos tisztaságát\, a dombok szeszélyes vonalait\, a szántók\, a kaszálók színfoltjait\, a különleges és a világon egyedi viselet- és táncbéli gazdagságát. \n\nSzerelmünk\, Kalotaszeg előadásunk június 12-én a Duna Karnevál keretében valósul meg a Múzeumkertben. \n  \nElőadja: Duna Művészegyüttes\, Göncöl Zenekar \n\nKözreműködik: \nKacsó Hanga Borbála – ének \nBerecz István – tánc \nBarcza Zsolt – harmonika \n\n\nAlkotók: \nzene: Dulai Zoltán\, Kelemen László\, Navratil Andrea \njelmez: Furik Rita \nlátvány\, díszlet: JuZso \nfény: Lendvai Károly \nanimáció: Samu Bence\, Hajdú Gáspár\, Lakos Tamás (XORXOR) \ntáncmesterek: Gyémánt Ádám\, Gyémánt-Csontos Lívia \nkoreográfus: Fitos Dezső\, Kocsis Enikő\, Juhász Zsolt\, Mihályi Gábor \nrendező: Juhász Zsolt
URL:https://dunamuveszegyuttes.hu/event/szerelmunk-kalotaszeg-12/
LOCATION:Múzeumkert\, Budapest
CATEGORIES:Események
ATTACH;FMTTYPE=image/jpeg:https://dunamuveszegyuttes.hu/wp-content/uploads/2024/06/Szekesfehervar-38-masolat-2.jpg
END:VEVENT
BEGIN:VEVENT
DTSTART;TZID=UTC:20260619T200000
DTEND;TZID=UTC:20260619T220000
DTSTAMP:20260421T132127
CREATED:20260421T083423Z
LAST-MODIFIED:20260421T083537Z
UID:3755-1781899200-1781906400@dunamuveszegyuttes.hu
SUMMARY:Duna Karnevál Gála
DESCRIPTION:31. DUNA KARNEVÁL GÁLA \nTáncba szőtt szerelem \nA karneváli események koronája minden évben a Margitszigeti Szabadtéri Színpad mesés környezetében bemutatott gálaműsor\, a külföldi és hazai táncegyüttesek közel 300 művészének egyedülálló\, közös műsora\, ahol jelen lesznek a FolKid gyermekfesztivál kiemelkedő csoportjai is. \nA Táncba szőtt szerelem egy különleges néptánc előadás\, amely a szerelem sokszínű arcát idézi meg a világ népeinek táncain és zenéin keresztül. \nA Duna Művészegyüttes és a Magyar Állami Népi Együttes művészeihez a karneválra érkező nemzetközi tánc- és zenei együttesek is csatlakoznak\, hogy közösen mutassák meg\, hogyan szövi át a szerelem a nemzeti tradíciókat\, hogyan válik a tánc közös nyelvvé\, amely határokon és generációkon ível át. \nEz az est a tánc szeretetének ünnepe is\, ahol a különböző kultúrák dallamai és mozdulatai egymásba fonódva rajzolják ki az egyetemes érzelmet\, és a színpadon kibontakozó találkozások egyszerre idézik a néphagyomány erejét és a szerelem időtlen varázsát. \n  \nSzerkesztő koreográfus: Mihályi Gábor\, Kossuth- és Harangozó Gyula-díjas\, Érdemes és Kiváló művész \nZenei szerkesztő: Pál István Szalonna\, Kossuth-\, és Liszt Ferenc-díjas népzenész\, Érdemes és Kiváló művészDulai Zoltán\, a Népművészet Ifjú Mestere \nKoreográfus-rendező: Juhász Zsolt\, Harangozó Gyula-díjas\, Érdemes művész \nFesztiváligazgató: Vincze Andrea\, Bánffy Miklós-díjas \n  \nA Duna Karnevál alapítója\, 2024-ig elnöke és művészeti igazgatója: Mucsi János\, Harangozó Gyula-díjas koreográfus\, Érdemes művész\, a Tiszti-kereszt érdemrend birtokosa
URL:https://dunamuveszegyuttes.hu/event/duna-karneval-gala-2/
LOCATION:Margitszigeti Szabadtéri Színpad
CATEGORIES:Események
ATTACH;FMTTYPE=image/png:https://dunamuveszegyuttes.hu/wp-content/uploads/2024/05/Kepernyofoto-2022-07-05-14.06.00.png
END:VEVENT
END:VCALENDAR