BEGIN:VCALENDAR
VERSION:2.0
PRODID:-//dunamuveszegyuttes - ECPv5.12.3//NONSGML v1.0//EN
CALSCALE:GREGORIAN
METHOD:PUBLISH
X-WR-CALNAME:dunamuveszegyuttes
X-ORIGINAL-URL:https://dunamuveszegyuttes.hu
X-WR-CALDESC:Events for dunamuveszegyuttes
REFRESH-INTERVAL;VALUE=DURATION:PT1H
X-Robots-Tag:noindex
X-PUBLISHED-TTL:PT1H
BEGIN:VTIMEZONE
TZID:Europe/Paris
BEGIN:DAYLIGHT
TZOFFSETFROM:+0100
TZOFFSETTO:+0200
TZNAME:CEST
DTSTART:20220327T010000
END:DAYLIGHT
BEGIN:STANDARD
TZOFFSETFROM:+0200
TZOFFSETTO:+0100
TZNAME:CET
DTSTART:20221030T010000
END:STANDARD
END:VTIMEZONE
BEGIN:VEVENT
DTSTART;TZID=Europe/Paris:20220219T190000
DTEND;TZID=Europe/Paris:20220219T190000
DTSTAMP:20260422T034013
CREATED:20220113T230159Z
LAST-MODIFIED:20220211T142639Z
UID:811-1645297200-1645297200@dunamuveszegyuttes.hu
SUMMARY:Szépséges Mezőség /Müpa/
DESCRIPTION:A Mezőség sokszínű népművészete Bartók Bélától és Kodály Zoltántól kezdve Martin Györgyön és Tímár Sándoron át Novák Ferencig számos gyűjtő érdeklődését felkeltette már. Tehát bőséges forrásból dolgozhatott Juhász Zsolt együttesvezető\, rendező\, aki így gondolkodott a műsor kapcsán: \n„Az érzéseinket\, a tájegység iránti szeretetet\, annak szépségeit szeretnénk megmutatni. Multikulturális vidék magyarsággal\, románsággal\, cigánysággal – ezt az izgalmas együttélést próbáljuk színre vinni.” \n  \nA „Szépséges Mezőség” mintegy 300 településen\, a magyar\, a román\, a cigány és a szász kultúra összefonódása révén kialakult sokszínű világon kalauzolja majd végig a nézőket. Ez a multikulturalitás áll a műsor tematikai centrumában is\, melyet Navratil Andrea énekszava\, Tóth Károly előadásában Wass Albert prózái\, valamint Barcza Zsolt tangóharmonikás és a Göncöl zenekar játéka színesít. \n  \nA színpadkép alapvetően a mezőségi dombságot jeleníti majd meg absztrakt díszletekkel\, monumentális\, gurítható dobogókat láthatnak majd a nézők\, melyek felületeit vetítéssel színezik\, egy korszerű fényfestési technológiával. \nA bemutatóra készülve több kiváló táncos szakember segítette az Együttes munkáját: a darab Kocsis Enikő\, Fitos Dezső\, Farkas Tamás és Juhász Zsolt koreográfiáira épül. \n  \nA „Szépséges Mezőség” című előadás bemutatója a Liszt Ünnep Nemzetközi Kulturális Fesztivál programjaként\, a Müpa szervezésében valósul meg 2021. október 24-én\, 19 órakor\, a Müpa-ban. \n  \nKözreműködők:  \nÉnek: Navratil Andrea \nPróza: Tóth Károly \nTangóharmonika: Barcza Zsolt
URL:https://dunamuveszegyuttes.hu/event/szepseges-mezoseg-mupa/
LOCATION:MÜPA
CATEGORIES:Események
ATTACH;FMTTYPE=image/jpeg:https://dunamuveszegyuttes.hu/wp-content/uploads/2022/01/Szepseges-Mezoseg-185.jpg
END:VEVENT
END:VCALENDAR