BEGIN:VCALENDAR
VERSION:2.0
PRODID:-//dunamuveszegyuttes - ECPv5.12.3//NONSGML v1.0//EN
CALSCALE:GREGORIAN
METHOD:PUBLISH
X-WR-CALNAME:dunamuveszegyuttes
X-ORIGINAL-URL:https://dunamuveszegyuttes.hu
X-WR-CALDESC:Events for dunamuveszegyuttes
REFRESH-INTERVAL;VALUE=DURATION:PT1H
X-Robots-Tag:noindex
X-PUBLISHED-TTL:PT1H
BEGIN:VTIMEZONE
TZID:UTC
BEGIN:STANDARD
TZOFFSETFROM:+0000
TZOFFSETTO:+0000
TZNAME:UTC
DTSTART:20240101T000000
END:STANDARD
END:VTIMEZONE
BEGIN:VEVENT
DTSTART;TZID=UTC:20241004T190000
DTEND;TZID=UTC:20241004T203000
DTSTAMP:20260421T205240
CREATED:20240702T074939Z
LAST-MODIFIED:20240821T075153Z
UID:2822-1728068400-1728073800@dunamuveszegyuttes.hu
SUMMARY:Szerelemkert
DESCRIPTION:  \nSzerelmi vágy\, szerelmi álom \nEmléke\, fénye űz feléd\, \nKeresem az elvesztett édent\, \nRemények\, álmok édenét… \nAmikor én rajongó vággyal \nKövetlek\, várlak tégedet\, \nA multnak álma száll meg akkor: \nA mult és az emlékezet… \n                (Ady Endre: A múltért) \n  \nA Szerelemkert című produkció egy rendhagyó válogatás\, amelyben a koreográfiák\, amellett\, hogy mind a szerelemről szólnak\, az előadóknak és az alkotóknak a tánchoz fűződő szeretetét\, a művészi elkötelezettségét\, a magyar néptánc és a színpadi néptáncművészet iránti tiszteletét tükrözi. \nAz előadás gerincét neves koreográfusok rég nem látott\, emblematikus művei alkotják kiegészülve az együttes jelenlegi repertoárján lévő koreográfiáival. Ebből a válogatásból a rendezésnek és az izgalmas látványvilágnak köszönhetően egy új\, önálló előadás jött létre. \nA produkcióban énekesként közreműködik Fekete Borbála. \n  \nAz előadásban látható koreográfiák:  \nKiss Ferenc – Mosóczi István: Szerelem \nIfj. Csoóri Sándor – Szigeti Károly: Botoló \nCarl Orff – Kricskovics Antal: Carmina Burana \nPál Lajos – Juhász Zsolt: Fehér pár \nKiss Ferenc – Mucsi János: Amazonok \nKiss Ferenc – Foltin Jolán: Kalitka \nLajkó Félix – Juhász Zsolt: Kézfogó \nVajda János – Györgyfalvay Katalin: Just for you \nKiss Ferenc – Juhász Zsolt: Tavasz\, tavasz \n  \nJegyek itt kaphatók: https://nemzetitancszinhaz.jegy.hu/program/bemutato-szerelemkert-duna-muveszegyuttes-164564/1169689?lang=hu \n  \nElőadja a Duna Művészegyüttes\nKözreműködik: Fekete Borbála – ének\nkoreográfusok: Foltin Jolán\, Györgyfalvay Katalin\, Juhász Zsolt\, Kricskovics Antal\, Mosóczi István\, Mucsi János\, Szigeti Károly\nzeneszerzők: Carl Orff\, Ifj. Csoóri Sándor \, Kiss Ferenc\, Lajkó Félix\, Pál Lajos\, Vajda János\njelmez\, díszlet: Túri Erzsébet\nlátvány: JuZso\nfény: Lendvai Károly\nasszisztensek: Bonifert Katalin\, Kovácsné Fodor Katalin\, Soós Gyula András\nrendező: Juhász Zsolt
URL:https://dunamuveszegyuttes.hu/event/szerelemkert-2/
LOCATION:Nemzeti Táncszínház
CATEGORIES:Események
ATTACH;FMTTYPE=image/jpeg:https://dunamuveszegyuttes.hu/wp-content/uploads/2024/08/69A4576-scaled-e1723459220714.jpg
END:VEVENT
END:VCALENDAR