BEGIN:VCALENDAR
VERSION:2.0
PRODID:-//dunamuveszegyuttes - ECPv5.12.3//NONSGML v1.0//EN
CALSCALE:GREGORIAN
METHOD:PUBLISH
X-WR-CALNAME:dunamuveszegyuttes
X-ORIGINAL-URL:https://dunamuveszegyuttes.hu
X-WR-CALDESC:Events for dunamuveszegyuttes
REFRESH-INTERVAL;VALUE=DURATION:PT1H
X-Robots-Tag:noindex
X-PUBLISHED-TTL:PT1H
BEGIN:VTIMEZONE
TZID:UTC
BEGIN:STANDARD
TZOFFSETFROM:+0000
TZOFFSETTO:+0000
TZNAME:UTC
DTSTART:20240101T000000
END:STANDARD
END:VTIMEZONE
BEGIN:VEVENT
DTSTART;TZID=UTC:20240910T190000
DTEND;TZID=UTC:20240910T200000
DTSTAMP:20260421T223105
CREATED:20240815T124138Z
LAST-MODIFIED:20240828T101135Z
UID:2868-1725994800-1725998400@dunamuveszegyuttes.hu
SUMMARY:Apák és fiak – Táncelőadás Nagy Albert gyűjtései nyomán
DESCRIPTION:Szeptember 10-én a Duna Művészegyüttes Apák és fiak című előadása két felvonásos lesz a Szegedi Nemzeti Színházban\, melynek első felvonásában azok az együttesek lépnek fel\, amelyekkel Nagy Albert koreográfusként és együttesvezetőként hosszú évekig dolgozott. \nKözreműködik a gyomaendrődi Körösmenti Táncegyüttes (együttesvezető: Weigert László)\, az Üllési Fonó Táncegyüttes (együttesvezető: Nagy Róbert)\, a Sebes-Körös menti Pacsirták Néptáncegyüttes Románia (együttesvezető: Szoboszlai-Gáspár Edit) valamint a Szeged Táncegyüttes (együttesvezető: Gombos András). \n  \nA Duna Művészegyüttes Apák és fiak – Táncelőadás Nagy Albert gyűjtései nyomán című előadása az apák és fiak közötti szellemi kapcsolaton keresztül a hagyományról\, az átörökítésről és az átvételéről kíván szólni. A produkció egy sorozat kezdő állomása\, melyben az Együttes tisztelegni kíván a kiemelkedő munkát végző néptáncgyűjtők előtt. Elsőként az Együttes művészeti vezetőjének\, Juhász Zsoltnak mestere\, Nagy Albert munkásságára kerül fókuszba. Az ő emblematikus gyűjtéseiből építkezik produkció tánc és zenei anyaga. Az előadásban Kölcsey Ferenc Parainesis Kölcsey Kálmánhoz c. művéből idéz részleteket Rubold Ödön Jászai Mari-díjas színművész\, Érdemes művész\, táncosként pedig közreműködik Pálvölgyi Kristóf. \n 
URL:https://dunamuveszegyuttes.hu/event/apak-es-fiak-tanceloadas-nagy-albert-gyujtesei-nyoman-7/
LOCATION:Szegedi Nemzeti Színház
CATEGORIES:Események
ATTACH;FMTTYPE=image/jpeg:https://dunamuveszegyuttes.hu/wp-content/uploads/2023/10/DME_Apakesfiak_kicsi.jpg
END:VEVENT
END:VCALENDAR