BEGIN:VCALENDAR
VERSION:2.0
PRODID:-//dunamuveszegyuttes - ECPv5.12.3//NONSGML v1.0//EN
CALSCALE:GREGORIAN
METHOD:PUBLISH
X-WR-CALNAME:dunamuveszegyuttes
X-ORIGINAL-URL:https://dunamuveszegyuttes.hu
X-WR-CALDESC:Events for dunamuveszegyuttes
REFRESH-INTERVAL;VALUE=DURATION:PT1H
X-Robots-Tag:noindex
X-PUBLISHED-TTL:PT1H
BEGIN:VTIMEZONE
TZID:UTC
BEGIN:STANDARD
TZOFFSETFROM:+0000
TZOFFSETTO:+0000
TZNAME:UTC
DTSTART:20240101T000000
END:STANDARD
END:VTIMEZONE
BEGIN:VEVENT
DTSTART;TZID=UTC:20240901T180000
DTEND;TZID=UTC:20240901T190000
DTSTAMP:20260421T222525
CREATED:20240815T122309Z
LAST-MODIFIED:20240815T123803Z
UID:2861-1725213600-1725217200@dunamuveszegyuttes.hu
SUMMARY:Magyar Táncképek
DESCRIPTION:„…A magyar egy Pindár: valamerre ragadja negéde\, \nLelkesedett tűzzel nyomja ki indulatit. \nMajd lebegő szellő\, szerelemre olvad epedve\, \nS búja hevét kényes mozdulatokba szövi; \nMajd maga fellobbanva kiszáll a bajnoki táncra \n(Megveti a lyánykát a diadalmi dagály)\, \nS rengeti a földet: Kinizsit látsz véres ajakkal \nA testhalmok közt ugrani hőseivel…” \n/Berzsenyi Dániel: A táncok/ \n  \nA Magyar Táncképek a Duna Művészegyüttes folklórelőadása\, amelynek műsorát a Kárpát-medence autentikus néptáncait bemutató\, feldolgozó koreográfiák alkotják. \nAz előadás kötetlen szerkezetű\, amely különböző hangulatokat idéz meg\, impressziókat nyújt a paraszti kultúrából. \nA színpadon mezőföldi\, vág-garam közi\, somogyi\, Békés megyei\, székelyföldi és kalotaszegi táncok\, valamint különböző vidékek pásztortáncai elevenednek meg\, melyeket a Göncöl zenekar kísér virtuóz zenei összeállításokkal. Ezek a dallamok – hasonlóan a táncképekhez – a Kárpát-medence magyarságának és nemzetiségeinek népzenei hagyományait mutatják be. \n  \nElőadja a Duna Művészegyüttes tánckara és a Göncöl zenekar \nRendező: Juhász Zsolt \n 
URL:https://dunamuveszegyuttes.hu/event/magyar-tanckepek-18/
LOCATION:Nyergesújfalu\, Ady Endre Művelődési Központ és Könyvtár
CATEGORIES:Események
ATTACH;FMTTYPE=image/jpeg:https://dunamuveszegyuttes.hu/wp-content/uploads/2022/07/Magyarkanizsa-2022.06.17-34-e1658231767273.jpg
END:VEVENT
END:VCALENDAR