BEGIN:VCALENDAR
VERSION:2.0
PRODID:-//dunamuveszegyuttes - ECPv5.12.3//NONSGML v1.0//EN
CALSCALE:GREGORIAN
METHOD:PUBLISH
X-WR-CALNAME:dunamuveszegyuttes
X-ORIGINAL-URL:https://dunamuveszegyuttes.hu
X-WR-CALDESC:Events for dunamuveszegyuttes
REFRESH-INTERVAL;VALUE=DURATION:PT1H
X-Robots-Tag:noindex
X-PUBLISHED-TTL:PT1H
BEGIN:VTIMEZONE
TZID:UTC
BEGIN:STANDARD
TZOFFSETFROM:+0000
TZOFFSETTO:+0000
TZNAME:UTC
DTSTART:20240101T000000
END:STANDARD
END:VTIMEZONE
BEGIN:VEVENT
DTSTART;TZID=UTC:20240831T180000
DTEND;TZID=UTC:20240831T190000
DTSTAMP:20260421T222408
CREATED:20240828T100653Z
LAST-MODIFIED:20240828T100653Z
UID:2879-1725127200-1725130800@dunamuveszegyuttes.hu
SUMMARY:Magyar táncképek
DESCRIPTION:A Magyar Táncképek a Duna Művészegyüttes folklórelőadása\, amelynek műsorát a Kárpát-medence autentikus néptáncait bemutató\, feldolgozó koreográfiák alkotják. \nAz előadás kötetlen szerkezetű\, amely különböző hangulatokat idéz meg\, impressziókat nyújt a paraszti kultúrából. \nA színpadon mezőföldi\, vág-garam közi\, somogyi\, Békés megyei\, székelyföldi és kalotaszegi táncok\, valamint különböző vidékek pásztortáncai elevenednek meg\, melyeket a Göncöl zenekar kísér virtuóz zenei összeállításokkal. Ezek a dallamok – hasonlóan a táncképekhez – a Kárpát-medence magyarságának és nemzetiségeinek népzenei hagyományait mutatják be. \n\nElőadja a Duna Művészegyüttes tánckara és a Göncöl zenekar \nRendező: Juhász Zsolt
URL:https://dunamuveszegyuttes.hu/event/magyar-tanckepek-19/
LOCATION:Asztalkő fesztivál\, Velem
CATEGORIES:Események
ATTACH;FMTTYPE=image/jpeg:https://dunamuveszegyuttes.hu/wp-content/uploads/2022/07/Magyarkanizsa-2022.06.17-34-e1658231767273.jpg
END:VEVENT
END:VCALENDAR