BEGIN:VCALENDAR
VERSION:2.0
PRODID:-//dunamuveszegyuttes - ECPv5.12.3//NONSGML v1.0//EN
CALSCALE:GREGORIAN
METHOD:PUBLISH
X-WR-CALNAME:dunamuveszegyuttes
X-ORIGINAL-URL:https://dunamuveszegyuttes.hu
X-WR-CALDESC:Events for dunamuveszegyuttes
REFRESH-INTERVAL;VALUE=DURATION:PT1H
X-Robots-Tag:noindex
X-PUBLISHED-TTL:PT1H
BEGIN:VTIMEZONE
TZID:UTC
BEGIN:STANDARD
TZOFFSETFROM:+0000
TZOFFSETTO:+0000
TZNAME:UTC
DTSTART:20240101T000000
END:STANDARD
END:VTIMEZONE
BEGIN:VEVENT
DTSTART;TZID=UTC:20240809T200000
DTEND;TZID=UTC:20240809T210000
DTSTAMP:20260422T001623
CREATED:20240810T091246Z
LAST-MODIFIED:20240810T091757Z
UID:2832-1723233600-1723237200@dunamuveszegyuttes.hu
SUMMARY:Magyar Táncképek
DESCRIPTION:A Magyar Táncképek a Duna Művészegyüttes folklórelőadása\, amelynek műsorát a Kárpát-medence autentikus néptáncait bemutató\, feldolgozó koreográfiák alkotják. \nAz előadás kötetlen szerkezetű\, amely különböző hangulatokat idéz meg\, impressziókat nyújt a paraszti kultúrából. \nA színpadon mezőföldi\, vág-garam közi\, somogyi\, Békés megyei\, székelyföldi és kalotaszegi táncok\, valamint különböző vidékek pásztortáncai elevenednek meg\, melyeket a Göncöl zenekar kísér virtuóz zenei összeállításokkal. Ezek a dallamok – hasonlóan a táncképekhez – a Kárpát-medence magyarságának és nemzetiségeinek népzenei hagyományait mutatják be. \nA Duna Művészegyüttes ez alkalommal a XXV. JÁNOŠÍKOV DUKÁT Nemzetközi Szlovák Folklórfesztivál díszvendégeként lép színpadra a csehországi Roznov pod Radhostem-ben.
URL:https://dunamuveszegyuttes.hu/event/magyar-tanckepek-17/
LOCATION:Csehország\, Roznov pod Radhostem
CATEGORIES:Események
ATTACH;FMTTYPE=image/jpeg:https://dunamuveszegyuttes.hu/wp-content/uploads/2023/08/Mikhaza-25-scaled-e1692018623415.jpg
END:VEVENT
END:VCALENDAR