BEGIN:VCALENDAR
VERSION:2.0
PRODID:-//dunamuveszegyuttes - ECPv5.12.3//NONSGML v1.0//EN
CALSCALE:GREGORIAN
METHOD:PUBLISH
X-WR-CALNAME:dunamuveszegyuttes
X-ORIGINAL-URL:https://dunamuveszegyuttes.hu
X-WR-CALDESC:Events for dunamuveszegyuttes
REFRESH-INTERVAL;VALUE=DURATION:PT1H
X-Robots-Tag:noindex
X-PUBLISHED-TTL:PT1H
BEGIN:VTIMEZONE
TZID:UTC
BEGIN:STANDARD
TZOFFSETFROM:+0000
TZOFFSETTO:+0000
TZNAME:UTC
DTSTART:20240101T000000
END:STANDARD
END:VTIMEZONE
BEGIN:VEVENT
DTSTART;TZID=UTC:20241203T190000
DTEND;TZID=UTC:20241203T210000
DTSTAMP:20260421T161821
CREATED:20240702T071747Z
LAST-MODIFIED:20240925T085109Z
UID:2806-1733252400-1733259600@dunamuveszegyuttes.hu
SUMMARY:Székelykapu
DESCRIPTION:A székelykapu az ősi erő\, a hit\, a remény\, az Istenhez való tartozás jelképe\, kommunikációs csatorna ég és föld között. Három oszlopa a test\, a lélek és a szellem egységére utal\, faragásai védelmi\, kegyelmi és áldást adó szimbólumok. \nA Duna Művészegyüttes produkciójának inspirációs centrumában ez a csodálatos\, gazdag jelentéssel bíró építmény áll. Az alkotói szándék szerint az előadás átjárót nyit két szféra\, a szakrális és a világi között. E tér-idő játék elviszi a nézőt a székelység múltjába\, megeleveníti a rég elfeledett táncokat\, felidézi eredetüket és a jelentősebb történelmi eseményeiket. A székely kapu szellemi üzenete: „Áldás a bejövőnek\, béke a kimenőnek”. \n  \nJELENETKIOSZTÁS: \n\nfelvonás: Csillagösvényen\n\nElső ének: Égi-földi eredetmondák \nA mitikus múlt\, melyben megjelenik a Nap és a Hold násza\, Nimród és fiai: Hunor és Magor\, a Csodaszarvas űzése\, a székely nép születése. \n  \nMásodik ének: A Szent Anna-tó legendája \nA székely legendárium egyik reprezentatív példája ez\, mely a női princípiumot állítja szembe a férfiközpontú gondolkodásmóddal. \n  \nHarmadik ének: Székelyek Képes Krónikája \nMegidézzük Dózsa György parasztfelkelését\, Kőrösi Csoma Sándor keleti útját\, a Siculicidiumot\, avagy a mádéfalvi veszedelmet\, a csíksomlyói Babba Máriát\, a Napba öltözött Boldogasszonyt. \n  \n\nfelvonás: „Áldás a bejövőnek\, béke a kimenőnek”\n\nGyergyói tánckép  \nverbunk\, csárdás és gyorscsárdás\, Köllőké\, ceppel \n  \nFelcsíki párok \ncepper\, zsuka\, csárdás és sebes \n  \n„Egy kicsi madárka”  \nkászoni dallamok \n  \nFelső-Maros menti hangulatok / Marossárpatak\, Vajdaszentivány \nsebesforduló\, huszárverbunk\, csárdás\, korcsos\, cigánycsárdás\, batuka \n  \nMagyarói virtuózok \nmarosmagyarói muzsika \n  \nSóvidéki mulatság / Pálpatak\, Korond\, Makfalva \nverbunk\, csárdás\, szöktetős\, marosszéki \n  \n  \nKözreműködik: Kacsó Hanga Borbála / Fekete Borbála – ének\, Göncöl zenekar \nZeneszerző (első felvonás): Ifj. Csoóri Sándor \nZenei szerkesztő (második felvonás): Pál István „Szalonna” \nElőadja: Duna Művészegyüttes \nDramaturgia: Orza Calin \nDíszlet: Michac Gábor \nVideó: Lukács Mihály \nJelmez: Winklerné Petri-Kiss Borbála\, Furik Rita \nTáncmesterek: Módosné Almási Berta\, Módos Máté\, Sáfrán Balázs\, Szabó Csaba\, Farkas Ágnes\, Gaschler Beáta\, Antal Áron\, Nagypál Anett \nKoreográfusok: Farkas Tamás\, Kovács Norbert „Cimbi”\, Kádár Ignác\, Juhász Zsolt\, Orza Calin \nTánckarvezetők: Soós Gyula András\, Bonifert Katalin \nRendező: Juhász Zsolt \n  \nAz előadás bemutatója a Bartók Tavasz keretében a Duna Művészegyüttessel közös programként\, a Müpa szervezésében valósult meg.
URL:https://dunamuveszegyuttes.hu/event/szekelykapu-5/
LOCATION:MÜPA
CATEGORIES:Események
ATTACH;FMTTYPE=image/jpeg:https://dunamuveszegyuttes.hu/wp-content/uploads/2024/07/fb3-scaled-e1727254224594.jpg
END:VEVENT
BEGIN:VEVENT
DTSTART;TZID=UTC:20241204T190000
DTEND;TZID=UTC:20241204T210000
DTSTAMP:20260421T161821
CREATED:20240702T071915Z
LAST-MODIFIED:20240925T085034Z
UID:2808-1733338800-1733346000@dunamuveszegyuttes.hu
SUMMARY:Székelykapu
DESCRIPTION:A székelykapu az ősi erő\, a hit\, a remény\, az Istenhez való tartozás jelképe\, kommunikációs csatorna ég és föld között. Három oszlopa a test\, a lélek és a szellem egységére utal\, faragásai védelmi\, kegyelmi és áldást adó szimbólumok. \nA Duna Művészegyüttes produkciójának inspirációs centrumában ez a csodálatos\, gazdag jelentéssel bíró építmény áll. Az alkotói szándék szerint az előadás átjárót nyit két szféra\, a szakrális és a világi között. E tér-idő játék elviszi a nézőt a székelység múltjába\, megeleveníti a rég elfeledett táncokat\, felidézi eredetüket és a jelentősebb történelmi eseményeiket. A székely kapu szellemi üzenete: „Áldás a bejövőnek\, béke a kimenőnek”. \n  \nJELENETKIOSZTÁS: \n\nfelvonás: Csillagösvényen\n\nElső ének: Égi-földi eredetmondák \nA mitikus múlt\, melyben megjelenik a Nap és a Hold násza\, Nimród és fiai: Hunor és Magor\, a Csodaszarvas űzése\, a székely nép születése. \n  \nMásodik ének: A Szent Anna-tó legendája \nA székely legendárium egyik reprezentatív példája ez\, mely a női princípiumot állítja szembe a férfiközpontú gondolkodásmóddal. \n  \nHarmadik ének: Székelyek Képes Krónikája \nMegidézzük Dózsa György parasztfelkelését\, Kőrösi Csoma Sándor keleti útját\, a Siculicidiumot\, avagy a mádéfalvi veszedelmet\, a csíksomlyói Babba Máriát\, a Napba öltözött Boldogasszonyt. \n  \n\nfelvonás: „Áldás a bejövőnek\, béke a kimenőnek”\n\nGyergyói tánckép  \nverbunk\, csárdás és gyorscsárdás\, Köllőké\, ceppel \n  \nFelcsíki párok \ncepper\, zsuka\, csárdás és sebes \n  \n„Egy kicsi madárka”  \nkászoni dallamok \n  \nFelső-Maros menti hangulatok / Marossárpatak\, Vajdaszentivány \nsebesforduló\, huszárverbunk\, csárdás\, korcsos\, cigánycsárdás\, batuka \n  \nMagyarói virtuózok \nmarosmagyarói muzsika \n  \nSóvidéki mulatság / Pálpatak\, Korond\, Makfalva \nverbunk\, csárdás\, szöktetős\, marosszéki \n  \nKözreműködik: Kacsó Hanga Borbála / Fekete Borbála  – ének\, Göncöl zenekar \nZeneszerző (első felvonás): Ifj. Csoóri Sándor \nZenei szerkesztő (második felvonás): Pál István „Szalonna” \nElőadja: Duna Művészegyüttes \nDramaturgia: Orza Calin \nDíszlet: Michac Gábor \nVideó: Lukács Mihály \nJelmez: Winklerné Petri-Kiss Borbála\, Furik Rita \nTáncmesterek: Módosné Almási Berta\, Módos Máté\, Sáfrán Balázs\, Szabó Csaba\, Farkas Ágnes\, Gaschler Beáta\, Antal Áron\, Nagypál Anett \nKoreográfusok: Farkas Tamás\, Kovács Norbert „Cimbi”\, Kádár Ignác\, Juhász Zsolt\, Orza Calin \nTánckarvezetők: Soós Gyula András\, Bonifert Katalin \nRendező: Juhász Zsolt \n  \nAz előadás bemutatója a Bartók Tavasz keretében a Duna Művészegyüttessel közös programként\, a Müpa szervezésében valósult meg. \n 
URL:https://dunamuveszegyuttes.hu/event/szekelykapu-6/
LOCATION:MÜPA
CATEGORIES:Események
ATTACH;FMTTYPE=image/jpeg:https://dunamuveszegyuttes.hu/wp-content/uploads/2024/07/fb3-scaled-e1727254224594.jpg
END:VEVENT
BEGIN:VEVENT
DTSTART;TZID=UTC:20241212T190000
DTEND;TZID=UTC:20241212T203000
DTSTAMP:20260421T161821
CREATED:20241120T101146Z
LAST-MODIFIED:20241120T101146Z
UID:2924-1734030000-1734035400@dunamuveszegyuttes.hu
SUMMARY:Szerelemkert
DESCRIPTION:A Szerelemkert című produkció egy rendhagyó válogatás\, amelyben a koreográfiák\, amellett\, hogy mind a szerelemről szólnak\, az előadóknak és az alkotóknak a tánchoz fűződő szeretetét\, a művészi elkötelezettségét\, a magyar néptánc és a színpadi néptáncművészet iránti tiszteletét tükrözi. \nAz előadás gerincét neves koreográfusok rég nem látott\, emblematikus művei alkotják kiegészülve az együttes jelenlegi repertoárján lévő koreográfiáival. Ebből a válogatásból a rendezésnek és az izgalmas látványvilágnak köszönhetően egy új\, önálló előadás jött létre. \nA produkcióban énekesként közreműködik Fekete Borbála. \nAz előadásban látható koreográfiák: \nKiss Ferenc – Mosóczi István: Szerelem \nIfj. Csoóri Sándor – Szigeti Károly: Botoló \nCarl Orff – Kricskovics Antal: Carmina Burana \nPál Lajos – Juhász Zsolt: Fehér pár \nKiss Ferenc – Mucsi János: Amazonok \nKiss Ferenc – Foltin Jolán: Kalitka \nLajkó Félix – Juhász Zsolt: Kézfogó \nVajda János – Györgyfalvay Katalin: Just for you \nKiss Ferenc – Juhász Zsolt: Tavasz\, tavasz \n  \nElőadja a Duna Művészegyüttes\nKözreműködik: Fekete Borbála – ének\nKoreográfusok: Foltin Jolán\, Györgyfalvay Katalin\, Juhász Zsolt\, Kricskovics Antal\, Mosóczi István\, Mucsi János\, Szigeti Károly\nZeneszerzők: Carl Orff\, Ifj. Csoóri Sándor \, Kiss Ferenc\, Lajkó Félix\, Pál Lajos\, Vajda János\nJelmez\, díszlet: Túri Erzsébet\nLátvány: JuZso\nFény: Lendvai Károly\nAsszisztensek: Bonifert Katalin\, Kovácsné Fodor Katalin\, Soós Gyula András \nRendező: Juhász Zsolt
URL:https://dunamuveszegyuttes.hu/event/szerelemkert-3/
LOCATION:Nemzeti Táncszínház
CATEGORIES:Események
ATTACH;FMTTYPE=image/jpeg:https://dunamuveszegyuttes.hu/wp-content/uploads/2024/08/69A4576-scaled-e1723459220714.jpg
END:VEVENT
END:VCALENDAR