BEGIN:VCALENDAR
VERSION:2.0
PRODID:-//dunamuveszegyuttes - ECPv5.12.3//NONSGML v1.0//EN
CALSCALE:GREGORIAN
METHOD:PUBLISH
X-WR-CALNAME:dunamuveszegyuttes
X-ORIGINAL-URL:https://dunamuveszegyuttes.hu
X-WR-CALDESC:Events for dunamuveszegyuttes
REFRESH-INTERVAL;VALUE=DURATION:PT1H
X-Robots-Tag:noindex
X-PUBLISHED-TTL:PT1H
BEGIN:VTIMEZONE
TZID:UTC
BEGIN:STANDARD
TZOFFSETFROM:+0000
TZOFFSETTO:+0000
TZNAME:UTC
DTSTART:20240101T000000
END:STANDARD
END:VTIMEZONE
BEGIN:VEVENT
DTSTART;TZID=UTC:20241103T190000
DTEND;TZID=UTC:20241103T200000
DTSTAMP:20260421T180345
CREATED:20240925T084010Z
LAST-MODIFIED:20240925T084038Z
UID:2907-1730660400-1730664000@dunamuveszegyuttes.hu
SUMMARY:A Duna balladái - Táncok és imák a Duna mentén
DESCRIPTION:A Duna mentén élő népek számára a Duna az életet jelentő\, nyugalmat árasztó hatalmas folyam\, mely természetéből fakadóan határoz meg sorsokat\, megmaradásunk kötelező záloga. A Duna múlt és jelen gigászi tanújaként hidat képez nyugat és kelet között. A Fekete erdőtől a Fekete tengerig minden nép azonosul az embert próbáló és formáló nagy folyó-toposszal\, mely a kezdetektől fogva hatást gyakorolt hagyományos műveltségükre. Mi\, magyarok a nemzeti tudatunk alap jelképeként tekintünk rá. A Duna a tisztaság és megtisztulás szimbóluma\, erőt adó ihlető forrása megannyi művésznek. Stílusosan szólva\, Dunát lehetne rekeszteni a róla szóló költeményekből. \nA Duna Művészegyüttes 65 éves jubileumi évének zárására készült produkció címe – A Duna balladái – egyfajta romantikus költőiségre utal\, de a ballada szó eredeti jelentésére: a táncra is. A Duna-menti népek táncaiból és zenéiből merítkezve éneklik\, illetve táncolják el a dunai ember életérzéseit\, a nagy folyamhoz kötődő rítusait. \n  \nElőadják: Duna Művészegyüttes és a Göncöl Zenekar \nKözreműködik: Szent Efrém Férfikar\, Gera Gábor \nZenei szerkesztők: Ifj. Csoóri Sándor\, Bubnó Tamás\, Bubnó Lőrinc \nZeneszerzők: Ifj. Csoóri Sándor\, Gera Gábor \nDíszlettervező: Michac Gábor \nJelmeztervező: Túri Erzsébet \nFénytervező: Lendvai Károly \nTáncmesterek: Csoltói József\, Csoltóiné Szalai Márta\, Farkas Máté\, Borbély Beatrix\, Sáfrán Balázs\, Szabó-Kenéz Enikő\, Ónodi Béla \nTánckarvezetők: Soós Gyula András\, Bonifert Katalin \nKoreográfusok: Hégli Dusán\, Juhász Zsolt\, Mihályi Gábor \nRendező: Juhász Zsolt \n  \nAz előadás bemutatója a Nemzeti Táncszínházban\, közös programként valósult meg.
URL:https://dunamuveszegyuttes.hu/event/a-duna-balladai-tancok-es-imak-a-duna-menten-5/
LOCATION:Nemzeti Táncszínház
CATEGORIES:Események
ATTACH;FMTTYPE=image/jpeg:https://dunamuveszegyuttes.hu/wp-content/uploads/2022/11/A-Duna-balladai-masolat-e1704451520180.jpg
END:VEVENT
BEGIN:VEVENT
DTSTART;TZID=UTC:20241129T190000
DTEND;TZID=UTC:20241129T200000
DTSTAMP:20260421T180345
CREATED:20240925T084244Z
LAST-MODIFIED:20241104T104747Z
UID:2909-1732906800-1732910400@dunamuveszegyuttes.hu
SUMMARY:Fordulj\, kedves lovam - Válogatás Kallós Zoltán gyűjtéseiből
DESCRIPTION:Fordulj\, kedves lovam – Válogatás Kallós Zoltán gyűjtéseiből \nA Duna Művészegyüttes Göncöl zenekarának koncertje \n  \nA Duna Művészegyüttes állandó zenekara\, a Göncöl zenekar önálló koncertje a kétszeres Kossuth-díjas erdélyi magyar néprajzkutató\, Kallós Zoltán népzenei gyűjtéseiből válogat. \nA Fordulj\, kedves lovam – Válogatás Kallós Zoltán gyűjtéseiből című album a Spotify és Apple Music zenemegosztó csatornákon hallgatható\, az album célja\, hogy Kallós Zoltán életét\, kiemelkedő személyiségét legfontosabb népzenei gyűjtéseiből válogatva mutassa be\, melyet a koncerteken videó-illetve hangbejátszásokkal\, fényképek vetítésével tesznek még érzékletesebbé. \nAz album\, így tehát a koncert zenei anyagában is kimagasló szerepet játszik Kallós szűkebb szülőföldje\, a Kis-Szamos menti Válaszút és Bonchida\, illetve Mezőség számos falujának (Feketelak\, Buza\, Vajdakamarás\, Magyarszovát\, Szék) hangszeres és vokális népzenéje\, de Kallós Zoltán moldvai\, gyimesi\,kalotaszegi és nagysajói gyűjtéseiből is válogatnak. A zenei anyagot szerkesztette és természetesen a koncerten is közreműködik Enyedi Ágnes népdalénekes\, aki Kallós Zoltánnal gyerekkorától kezdve nagyon szoros kapcsolatot ápolt. Énekesként közreműködik továbbá Mezei Balázs\, a Duna Művészegyüttes táncművésze. \n  \nElőadja: \na Duna Művészegyüttes népi zenekara\, a Göncöl Zenekar \n  \nÉnekes közreműködők: \nEnyedi Ágnes Junior Prima díjas népdalénekes\, a Népművészet Ifjú Mestere \nMezei Balázs\, a Duna Művészegyüttes táncművésze \n  \nKözreműködnek a Duna Művészegyüttes táncművészei. \n 
URL:https://dunamuveszegyuttes.hu/event/fordulj-kedves-lovam-valogatas-kallos-zoltan-gyujteseibol-4/
LOCATION:Fonó Budai Zeneház
CATEGORIES:Események
ATTACH;FMTTYPE=image/jpeg:https://dunamuveszegyuttes.hu/wp-content/uploads/2023/10/FKL-9-scaled-e1717415347956.jpg
END:VEVENT
END:VCALENDAR