BEGIN:VCALENDAR
VERSION:2.0
PRODID:-//dunamuveszegyuttes - ECPv5.12.3//NONSGML v1.0//EN
CALSCALE:GREGORIAN
METHOD:PUBLISH
X-WR-CALNAME:dunamuveszegyuttes
X-ORIGINAL-URL:https://dunamuveszegyuttes.hu
X-WR-CALDESC:Events for dunamuveszegyuttes
REFRESH-INTERVAL;VALUE=DURATION:PT1H
X-Robots-Tag:noindex
X-PUBLISHED-TTL:PT1H
BEGIN:VTIMEZONE
TZID:UTC
BEGIN:STANDARD
TZOFFSETFROM:+0000
TZOFFSETTO:+0000
TZNAME:UTC
DTSTART:20260101T000000
END:STANDARD
END:VTIMEZONE
BEGIN:VEVENT
DTSTART;TZID=UTC:20260608T190000
DTEND;TZID=UTC:20260608T200000
DTSTAMP:20260425T173035
CREATED:20260421T082446Z
LAST-MODIFIED:20260421T082656Z
UID:3748-1780945200-1780948800@dunamuveszegyuttes.hu
SUMMARY:APÁK ÉS FIAK
DESCRIPTION:Duna Művészegyüttes \nApák és fiak – Táncelőadás Nagy Albert gyűjtései nyomán \n  \nHagyományos kultúránkban a szellemi javak átörökítése természetes folyamatként volt jelen. Szájról szájra terjedt tovább a tudás\, mely felhalmozódott a népművészetben. A hagyomány\, mint értékrend meghatározta a falusi közösség életét\, mely apáról fiúra szállt ugyan\, de a generációs folyamatokat tekintve korszakok között is átíveltek szellemi értékeink. \nA produkció az apák és fiak közötti szellemi kapcsolaton keresztül a hagyományról\, az átörökítésről és az átvételéről kíván szólni. Az előadás a tervek szerint egy sorozat kezdő állomása\, melyben az Együttes tisztelegni kíván a kiemelkedő munkát végző néptáncgyűjtők előtt. \nElsőként\, Juhász Zsolt mesterének\, Nagy Albertnek munkásságára emlékeznek. Az ő emblematikus gyűjtéseiből építkezik produkció tánc és zenei anyaga. \nAz előadásban Kölcsey Ferenc Parainesis Kölcsey Kálmánhoz c. művéből idéznek részleteket Rubold Ödön tolmácsolásában. \n  \nElőadja a Duna Művészegyüttes és a Göncöl zenekar \nKözreműködik: Rubold Ödön – Jászai Mari-díjas színművész\, Érdemes és Kiváló művész és Orosz Máté Imre\, a Debreceni Hajdú Táncegyüttes növendéke \nZenei szerkesztés: Göncöl zenekar\, Horváth Mária \nTáncmesterek: az Együttes táncművészei \nJelmez: Winklerné Petri-Kiss Borbála \nDíszlet: Michac Gábor \nLátvány: JuZso \nVideó: XORXOR \nFény: Lendvai Károly \nHang: Földes Gábor \nSzakmai konzulens: Gombos András \nRendező-koreográfus: Juhász Zsolt
URL:https://dunamuveszegyuttes.hu/event/apak-es-fiak-4/
LOCATION:Kálmán Imre Művelődési Központ\, Siófok
CATEGORIES:Események
ATTACH;FMTTYPE=image/jpeg:https://dunamuveszegyuttes.hu/wp-content/uploads/2024/02/19_Apak_348-masolat.jpg
END:VEVENT
END:VCALENDAR